BEGIN:VCALENDAR
VERSION:2.0
PRODID:icalendar-ruby
CALSCALE:GREGORIAN
METHOD:PUBLISH
BEGIN:VEVENT
DTSTAMP:20260422T162941Z
UID:10-550185@eccstamford.com
DTSTART:20261011T140000Z
DTEND:20261011T151000Z
CLASS:PUBLIC
CREATED:20260422T100719
DESCRIPTION:
LAST-MODIFIED:20260422T100719
LOCATION:Evangelical Community Church
SUMMARY:Sunday Worship
URL;VALUE=URI:https://www.eccstamford.com/events/sunday-worship/2026-10-11
ATTACH;FILENAME=Join-us-for-Worship.png;FMTTYPE=image/png:https://dq5pwpg1q
 8ru0.cloudfront.net/2023/09/02/13/49/26/0b73c6ab-bbf7-414e-82ca-26352dcd3e
 52/Join-us-for-Worship.png
END:VEVENT
END:VCALENDAR
